BEGIN:VCALENDAR
VERSION:2.0
PRODID:-//Plone.org//NONSGML plone.app.event//EN
X-WR-TIMEZONE:Brazil/East
BEGIN:VEVENT
SUMMARY:1º Ano do Site
DTSTART;TZID=Brazil/East;VALUE=DATE-TIME:20270223T000000
DTEND;TZID=Brazil/East;VALUE=DATE-TIME:20270223T235959
DTSTAMP;VALUE=DATE-TIME:20260424T230746Z
UID:d0abbde98e454169a1ea7a51adcbb3bf
CREATED;VALUE=DATE-TIME:20260223T193032Z
DESCRIPTION:Aniversário de primeiro ano do site desta Casa Legislativa. (
 este evento é um conteúdo de exemplo e pode ser removido)
LAST-MODIFIED;VALUE=DATE-TIME:20260223T193045Z
URL:https://www.tomazina.pr.leg.br/institucional/eventos/1o-ano-do-site
END:VEVENT
BEGIN:VTIMEZONE
TZID:Brazil/East
X-LIC-LOCATION:Brazil/East
BEGIN:STANDARD
DTSTART;VALUE=DATE-TIME:20270220T230000
TZNAME:BRT
TZOFFSETFROM:-0200
TZOFFSETTO:-0300
END:STANDARD
END:VTIMEZONE
END:VCALENDAR
